BEGIN:VCALENDAR
VERSION:2.0
PRODID:-//Norsk Sikkerhetsforening - ECPv6.15.20//NONSGML v1.0//EN
CALSCALE:GREGORIAN
METHOD:PUBLISH
X-WR-CALNAME:Norsk Sikkerhetsforening
X-ORIGINAL-URL:https://www.nosif.no
X-WR-CALDESC:Arrangement for Norsk Sikkerhetsforening
REFRESH-INTERVAL;VALUE=DURATION:PT1H
X-Robots-Tag:noindex
X-PUBLISHED-TTL:PT1H
BEGIN:VTIMEZONE
TZID:Europe/Oslo
BEGIN:DAYLIGHT
TZOFFSETFROM:+0100
TZOFFSETTO:+0200
TZNAME:CEST
DTSTART:20160327T010000
END:DAYLIGHT
BEGIN:STANDARD
TZOFFSETFROM:+0200
TZOFFSETTO:+0100
TZNAME:CET
DTSTART:20161030T010000
END:STANDARD
BEGIN:DAYLIGHT
TZOFFSETFROM:+0100
TZOFFSETTO:+0200
TZNAME:CEST
DTSTART:20170326T010000
END:DAYLIGHT
BEGIN:STANDARD
TZOFFSETFROM:+0200
TZOFFSETTO:+0100
TZNAME:CET
DTSTART:20171029T010000
END:STANDARD
BEGIN:DAYLIGHT
TZOFFSETFROM:+0100
TZOFFSETTO:+0200
TZNAME:CEST
DTSTART:20180325T010000
END:DAYLIGHT
BEGIN:STANDARD
TZOFFSETFROM:+0200
TZOFFSETTO:+0100
TZNAME:CET
DTSTART:20181028T010000
END:STANDARD
END:VTIMEZONE
BEGIN:VEVENT
DTSTART;TZID=Europe/Oslo:20171115T133000
DTEND;TZID=Europe/Oslo:20171115T160000
DTSTAMP:20260421T135408
CREATED:20161020T130410Z
LAST-MODIFIED:20171103T132557Z
UID:2635-1510752600-1510761600@www.nosif.no
SUMMARY:Medlemsmøte 15. november hos Norsk Maritimt Museum\, en del av Norsk Folkemuseum
DESCRIPTION:Vi inviterer til medlemsmøte onsdag 15. november 2017. \nProgram\nProgrammet finner du HER \nMøtested er møterom «Røylen»\, og vedlagte FIL viser kartutsnitt med inngang og P-muligheter.\nFor kollektiv transport benytt buss rute 30. \nHar du spørsmål kan du kontakte Karin på e-post karin@nosif.no eller telefon: 900 29 622 \nMeld deg på linken under:\n\n\n  \n\n\n\nDitt navn (obligatorisk)\n \n\n \nVirksomhet (obligatorisk)\n \n\n \nE-post (obligatorisk)\n \n\n \nTelefon (obligatorisk)\n \n\n \nKommentar\n \n\n \nSvar på mattestykket\n \n3 + 2? \n \n\n \n\n\nShareTweet
URL:https://www.nosif.no/aktivitet/medlemsmote-15-november-hos-norsk-maritimt-museum/
CATEGORIES:Aktiviteter
ATTACH;FMTTYPE=image/jpeg:https://www.nosif.no/wp-content/uploads/Norsk-maritims-Museum.jpg
END:VEVENT
END:VCALENDAR