BEGIN:VCALENDAR
VERSION:2.0
PRODID:-//Norsk Sikkerhetsforening - ECPv6.15.20//NONSGML v1.0//EN
CALSCALE:GREGORIAN
METHOD:PUBLISH
X-WR-CALNAME:Norsk Sikkerhetsforening
X-ORIGINAL-URL:https://www.nosif.no
X-WR-CALDESC:Arrangement for Norsk Sikkerhetsforening
REFRESH-INTERVAL;VALUE=DURATION:PT1H
X-Robots-Tag:noindex
X-PUBLISHED-TTL:PT1H
BEGIN:VTIMEZONE
TZID:Europe/Oslo
BEGIN:DAYLIGHT
TZOFFSETFROM:+0100
TZOFFSETTO:+0200
TZNAME:CEST
DTSTART:20170326T010000
END:DAYLIGHT
BEGIN:STANDARD
TZOFFSETFROM:+0200
TZOFFSETTO:+0100
TZNAME:CET
DTSTART:20171029T010000
END:STANDARD
BEGIN:DAYLIGHT
TZOFFSETFROM:+0100
TZOFFSETTO:+0200
TZNAME:CEST
DTSTART:20180325T010000
END:DAYLIGHT
BEGIN:STANDARD
TZOFFSETFROM:+0200
TZOFFSETTO:+0100
TZNAME:CET
DTSTART:20181028T010000
END:STANDARD
BEGIN:DAYLIGHT
TZOFFSETFROM:+0100
TZOFFSETTO:+0200
TZNAME:CEST
DTSTART:20190331T010000
END:DAYLIGHT
BEGIN:STANDARD
TZOFFSETFROM:+0200
TZOFFSETTO:+0100
TZNAME:CET
DTSTART:20191027T010000
END:STANDARD
END:VTIMEZONE
BEGIN:VEVENT
DTSTART;TZID=Europe/Oslo:20180314T131500
DTEND;TZID=Europe/Oslo:20180314T160000
DTSTAMP:20260421T090757
CREATED:20171221T073521Z
LAST-MODIFIED:20180305T092356Z
UID:2817-1521033300-1521043200@www.nosif.no
SUMMARY:NOSIFmøte og Årsmøte onsdag 14. mars hos Stortinget
DESCRIPTION:Vi kan med glede invitere til NOSIFmøte og Årsmøte hos Stortinget onsdag 14. mars kl 1315.\nDet vil bli omvisning i Stortinget.\nIkke-medlemmer er selvsagt også velkomne og kan få invitasjon / programmet tilsendt på e-post. \nInformasjon \nSted: Stortinget\nOppmøte kl 1315: Nedre Vollgate 20\, grønn dør. Det er glatt og mye ombygginger så beregn god tid. \nProgram \nKlikk her for program \n  \nHar du spørsmål kan du kontakte Karin på e-post karin@nosif.no eller telefon: 900 29 622 \n\n\n  \n\n\n\n\nPåmelding til Årsmøte 14. mars 2018\n\nFullt navn - Etternavn\, Fornavn (obligatorisk)\n \n\n \nE-post (obligatorisk)\n \n\n \nMobiltelefon (obligatorisk)\n \n\n \nKommentar\n \n\n \nTre pluss to? \n \n\n \n\n\n\n12ShareTweet
URL:https://www.nosif.no/aktivitet/nosifmote-og-arsmote-onsdag-14-mars-hos-stortinget/
ATTACH;FMTTYPE=image/jpeg:https://www.nosif.no/wp-content/uploads/Stortinget_2014.jpg
ORGANIZER;CN="Norsk Sikkerhetsforening":MAILTO:adm@nosif.no
END:VEVENT
END:VCALENDAR